BEGIN:VCALENDAR
VERSION:2.0
PRODID:-//Design RV - ECPv6.15.20//NONSGML v1.0//EN
CALSCALE:GREGORIAN
METHOD:PUBLISH
X-WR-CALNAME:Design RV
X-ORIGINAL-URL:https://designrv.com.au
X-WR-CALDESC:Events for Design RV
REFRESH-INTERVAL;VALUE=DURATION:PT1H
X-Robots-Tag:noindex
X-PUBLISHED-TTL:PT1H
BEGIN:VTIMEZONE
TZID:Australia/Melbourne
BEGIN:STANDARD
TZOFFSETFROM:+1100
TZOFFSETTO:+1000
TZNAME:AEST
DTSTART:20250405T160000
END:STANDARD
BEGIN:DAYLIGHT
TZOFFSETFROM:+1000
TZOFFSETTO:+1100
TZNAME:AEDT
DTSTART:20251004T160000
END:DAYLIGHT
BEGIN:STANDARD
TZOFFSETFROM:+1100
TZOFFSETTO:+1000
TZNAME:AEST
DTSTART:20260404T160000
END:STANDARD
BEGIN:DAYLIGHT
TZOFFSETFROM:+1000
TZOFFSETTO:+1100
TZNAME:AEDT
DTSTART:20261003T160000
END:DAYLIGHT
BEGIN:STANDARD
TZOFFSETFROM:+1100
TZOFFSETTO:+1000
TZNAME:AEST
DTSTART:20270403T160000
END:STANDARD
BEGIN:DAYLIGHT
TZOFFSETFROM:+1000
TZOFFSETTO:+1100
TZNAME:AEDT
DTSTART:20271002T160000
END:DAYLIGHT
END:VTIMEZONE
BEGIN:VEVENT
DTSTART;VALUE=DATE:20260421
DTEND;VALUE=DATE:20260422
DTSTAMP:20260421T222814
CREATED:20260421T060246Z
LAST-MODIFIED:20260421T065713Z
UID:13830-1776729600-1776815999@designrv.com.au
SUMMARY:NSW - Hunter Valley Outdoor Show
DESCRIPTION:
URL:https://designrv.com.au/event/nsw-hunter-valley-outdoor-show/
END:VEVENT
BEGIN:VEVENT
DTSTART;VALUE=DATE:20260428
DTEND;VALUE=DATE:20260504
DTSTAMP:20260421T222814
CREATED:20260420T052220Z
LAST-MODIFIED:20260421T055753Z
UID:13656-1777334400-1777852799@designrv.com.au
SUMMARY:NSW - Caravan Camping Holiday Supershow
DESCRIPTION:
URL:https://designrv.com.au/event/nsw-caravan-camping-holiday-supershow/
END:VEVENT
BEGIN:VEVENT
DTSTART;VALUE=DATE:20260508
DTEND;VALUE=DATE:20260511
DTSTAMP:20260421T222814
CREATED:20260420T074453Z
LAST-MODIFIED:20260421T055744Z
UID:13723-1778198400-1778457599@designrv.com.au
SUMMARY:QLD - Cairns Outdoor Adventure plus Home & Lifestyle Expo
DESCRIPTION:
URL:https://designrv.com.au/event/cairns-outdoor-adventure-plus-home-lifestyle-expo/
END:VEVENT
BEGIN:VEVENT
DTSTART;VALUE=DATE:20260508
DTEND;VALUE=DATE:20260511
DTSTAMP:20260421T222814
CREATED:20260420T074647Z
LAST-MODIFIED:20260421T055731Z
UID:13725-1778198400-1778457599@designrv.com.au
SUMMARY:VIC - Cranbourne Caravanning & Adventure Leisurefest
DESCRIPTION:
URL:https://designrv.com.au/event/cranbourne-caravanning-adventure-leisurefest/
END:VEVENT
BEGIN:VEVENT
DTSTART;VALUE=DATE:20260508
DTEND;VALUE=DATE:20260511
DTSTAMP:20260421T222814
CREATED:20260420T074842Z
LAST-MODIFIED:20260421T055711Z
UID:13729-1778198400-1778457599@designrv.com.au
SUMMARY:WA - Ready 4 Adventure Show
DESCRIPTION:
URL:https://designrv.com.au/event/https-www-ready4adventure-com-au/
END:VEVENT
BEGIN:VEVENT
DTSTART;VALUE=DATE:20260515
DTEND;VALUE=DATE:20260518
DTSTAMP:20260421T222814
CREATED:20260421T060110Z
LAST-MODIFIED:20260421T060110Z
UID:13828-1778803200-1779062399@designrv.com.au
SUMMARY:QLD - Townsville Caravan\, 4×4 & Outdoor Adventure Expo
DESCRIPTION:
URL:https://designrv.com.au/event/qld-townsville-caravan-4x4-outdoor-adventure-expo/
END:VEVENT
BEGIN:VEVENT
DTSTART;VALUE=DATE:20260522
DTEND;VALUE=DATE:20260525
DTSTAMP:20260421T222814
CREATED:20260421T060608Z
LAST-MODIFIED:20260421T060608Z
UID:13832-1779408000-1779667199@designrv.com.au
SUMMARY:QLD - Mackay Outdoor Adventure plus Home & Lifestyle Expo
DESCRIPTION:
URL:https://designrv.com.au/event/qld-mackay-outdoor-adventure-plus-home-lifestyle-expo/
END:VEVENT
BEGIN:VEVENT
DTSTART;VALUE=DATE:20260529
DTEND;VALUE=DATE:20260601
DTSTAMP:20260421T222814
CREATED:20260421T060813Z
LAST-MODIFIED:20260421T060813Z
UID:13834-1780012800-1780271999@designrv.com.au
SUMMARY:VIC - Bendigo Caravan and Outdoor Leisure Roadshow
DESCRIPTION:
URL:https://designrv.com.au/event/vic-bendigo-caravan-and-outdoor-leisure-roadshow/
END:VEVENT
BEGIN:VEVENT
DTSTART;VALUE=DATE:20260603
DTEND;VALUE=DATE:20260608
DTSTAMP:20260421T222814
CREATED:20260421T061032Z
LAST-MODIFIED:20260421T061032Z
UID:13836-1780444800-1780876799@designrv.com.au
SUMMARY:QLD - Let’s Go Queensland Caravan & Camping Supershow
DESCRIPTION:
URL:https://designrv.com.au/event/qld-lets-go-queensland-caravan-camping-supershow/
END:VEVENT
BEGIN:VEVENT
DTSTART;VALUE=DATE:20260619
DTEND;VALUE=DATE:20260622
DTSTAMP:20260421T222814
CREATED:20260421T061348Z
LAST-MODIFIED:20260421T061348Z
UID:13838-1781827200-1782086399@designrv.com.au
SUMMARY:NSW - Coffs Harbour Outdoor Living & Caravan Expo
DESCRIPTION:
URL:https://designrv.com.au/event/nsw-coffs-harbour-outdoor-living-caravan-expo/
END:VEVENT
BEGIN:VEVENT
DTSTART;VALUE=DATE:20260626
DTEND;VALUE=DATE:20260629
DTSTAMP:20260421T222814
CREATED:20260421T061641Z
LAST-MODIFIED:20260421T061641Z
UID:13841-1782432000-1782691199@designrv.com.au
SUMMARY:NSW - Tamworth Outdoor Living & Caravan Expo
DESCRIPTION:
URL:https://designrv.com.au/event/nsw-tamworth-outdoor-living-caravan-expo/
END:VEVENT
BEGIN:VEVENT
DTSTART;VALUE=DATE:20260707
DTEND;VALUE=DATE:20260710
DTSTAMP:20260421T222814
CREATED:20260421T062452Z
LAST-MODIFIED:20260421T062452Z
UID:13845-1783382400-1783641599@designrv.com.au
SUMMARY:QLD - Big Red Bash (cancelled for 2026)
DESCRIPTION:
URL:https://designrv.com.au/event/qld-big-red-bash-cancelled-for-2026/
END:VEVENT
BEGIN:VEVENT
DTSTART;VALUE=DATE:20260710
DTEND;VALUE=DATE:20260713
DTSTAMP:20260421T222814
CREATED:20260421T080328Z
LAST-MODIFIED:20260421T080328Z
UID:13857-1783641600-1783900799@designrv.com.au
SUMMARY:NSW - Illawarra Caravan Lifestyle Expo
DESCRIPTION:
URL:https://designrv.com.au/event/nsw-illawarra-caravan-lifestyle-expo/
END:VEVENT
END:VCALENDAR